BEGIN:VCALENDAR
VERSION:2.0
PRODID:-//Hartland Community School - ECPv6.15.20//NONSGML v1.0//EN
CALSCALE:GREGORIAN
METHOD:PUBLISH
X-ORIGINAL-URL:https://hcs.nbed.ca
X-WR-CALDESC:Events for Hartland Community School
REFRESH-INTERVAL;VALUE=DURATION:PT1H
X-Robots-Tag:noindex
X-PUBLISHED-TTL:PT1H
BEGIN:VTIMEZONE
TZID:America/Moncton
BEGIN:DAYLIGHT
TZOFFSETFROM:-0400
TZOFFSETTO:-0300
TZNAME:ADT
DTSTART:20220313T060000
END:DAYLIGHT
BEGIN:STANDARD
TZOFFSETFROM:-0300
TZOFFSETTO:-0400
TZNAME:AST
DTSTART:20221106T050000
END:STANDARD
BEGIN:DAYLIGHT
TZOFFSETFROM:-0400
TZOFFSETTO:-0300
TZNAME:ADT
DTSTART:20230312T060000
END:DAYLIGHT
BEGIN:STANDARD
TZOFFSETFROM:-0300
TZOFFSETTO:-0400
TZNAME:AST
DTSTART:20231105T050000
END:STANDARD
BEGIN:DAYLIGHT
TZOFFSETFROM:-0400
TZOFFSETTO:-0300
TZNAME:ADT
DTSTART:20240310T060000
END:DAYLIGHT
BEGIN:STANDARD
TZOFFSETFROM:-0300
TZOFFSETTO:-0400
TZNAME:AST
DTSTART:20241103T050000
END:STANDARD
END:VTIMEZONE
BEGIN:VEVENT
DTSTART;TZID=America/Moncton:20230621T150000
DTEND;TZID=America/Moncton:20230621T150000
DTSTAMP:20260424T205623
CREATED:20230426T182516Z
LAST-MODIFIED:20230426T182517Z
UID:10000202-1687359600-1687359600@hcs.nbed.ca
SUMMARY:French Club - Grades 5-8
DESCRIPTION:
URL:https://hcs.nbed.ca/calendar/french-club-grades-5-8-10/
CATEGORIES:Extracurricular
END:VEVENT
BEGIN:VEVENT
DTSTART;TZID=America/Moncton:20230615T193000
DTEND;TZID=America/Moncton:20230615T210000
DTSTAMP:20260424T205623
CREATED:20230427T150749Z
LAST-MODIFIED:20230427T150750Z
UID:10000245-1686857400-1686862800@hcs.nbed.ca
SUMMARY:U17 Basketball (Large Gym)
DESCRIPTION:
URL:https://hcs.nbed.ca/calendar/u17-basketball-large-gym-14/
CATEGORIES:Athletics
END:VEVENT
BEGIN:VEVENT
DTSTART;TZID=America/Moncton:20230615T145000
DTEND;TZID=America/Moncton:20230615T153000
DTSTAMP:20260424T205623
CREATED:20230426T182438Z
LAST-MODIFIED:20230426T182439Z
UID:10000201-1686840600-1686843000@hcs.nbed.ca
SUMMARY:Problem Solvers Math Club - Grades 6-8
DESCRIPTION:
URL:https://hcs.nbed.ca/calendar/problem-solvers-math-club-grades-6-8-9/
CATEGORIES:Extracurricular
END:VEVENT
BEGIN:VEVENT
DTSTART;TZID=America/Moncton:20230614T150000
DTEND;TZID=America/Moncton:20230614T150000
DTSTAMP:20260424T205623
CREATED:20230426T182350Z
LAST-MODIFIED:20230426T182351Z
UID:10000200-1686754800-1686754800@hcs.nbed.ca
SUMMARY:French Club - Grades 5-8
DESCRIPTION:
URL:https://hcs.nbed.ca/calendar/french-club-grades-5-8-9/
CATEGORIES:Extracurricular
END:VEVENT
BEGIN:VEVENT
DTSTART;TZID=America/Moncton:20230613T193000
DTEND;TZID=America/Moncton:20230613T210000
DTSTAMP:20260424T205623
CREATED:20230427T150712Z
LAST-MODIFIED:20230427T150713Z
UID:10000244-1686684600-1686690000@hcs.nbed.ca
SUMMARY:U17 Basketball (Large Gym)
DESCRIPTION:
URL:https://hcs.nbed.ca/calendar/u17-basketball-large-gym-13/
CATEGORIES:Athletics
END:VEVENT
BEGIN:VEVENT
DTSTART;TZID=America/Moncton:20230608T193000
DTEND;TZID=America/Moncton:20230608T210000
DTSTAMP:20260424T205623
CREATED:20230427T150629Z
LAST-MODIFIED:20230427T150630Z
UID:10000243-1686252600-1686258000@hcs.nbed.ca
SUMMARY:U17 Basketball (Large Gym)
DESCRIPTION:
URL:https://hcs.nbed.ca/calendar/u17-basketball-large-gym-12/
CATEGORIES:Athletics
END:VEVENT
BEGIN:VEVENT
DTSTART;TZID=America/Moncton:20230608T145000
DTEND;TZID=America/Moncton:20230608T153000
DTSTAMP:20260424T205623
CREATED:20230426T182201Z
LAST-MODIFIED:20230426T182202Z
UID:10000199-1686235800-1686238200@hcs.nbed.ca
SUMMARY:Problem Solvers Math Club - Grades 6-8
DESCRIPTION:
URL:https://hcs.nbed.ca/calendar/problem-solvers-math-club-grades-6-8-8/
CATEGORIES:Extracurricular
END:VEVENT
BEGIN:VEVENT
DTSTART;TZID=America/Moncton:20230607T150000
DTEND;TZID=America/Moncton:20230607T150000
DTSTAMP:20260424T205623
CREATED:20230426T182120Z
LAST-MODIFIED:20230426T182121Z
UID:10000198-1686150000-1686150000@hcs.nbed.ca
SUMMARY:French Club - Grades 5-8
DESCRIPTION:
URL:https://hcs.nbed.ca/calendar/french-club-grades-5-8-8/
CATEGORIES:Extracurricular
END:VEVENT
BEGIN:VEVENT
DTSTART;TZID=America/Moncton:20230606T193000
DTEND;TZID=America/Moncton:20230606T210000
DTSTAMP:20260424T205623
CREATED:20230427T150602Z
LAST-MODIFIED:20230427T150602Z
UID:10000161-1686079800-1686085200@hcs.nbed.ca
SUMMARY:U17 Basketball (Large Gym)
DESCRIPTION:
URL:https://hcs.nbed.ca/calendar/u17-basketball-large-gym-11/
CATEGORIES:Athletics
END:VEVENT
BEGIN:VEVENT
DTSTART;TZID=America/Moncton:20230601T193000
DTEND;TZID=America/Moncton:20230601T210000
DTSTAMP:20260424T205623
CREATED:20230427T150450Z
LAST-MODIFIED:20230427T150451Z
UID:10000160-1685647800-1685653200@hcs.nbed.ca
SUMMARY:U17 Basketball (Large Gym)
DESCRIPTION:
URL:https://hcs.nbed.ca/calendar/u17-basketball-large-gym-10/
CATEGORIES:Athletics
END:VEVENT
BEGIN:VEVENT
DTSTART;TZID=America/Moncton:20230601T145000
DTEND;TZID=America/Moncton:20230601T153000
DTSTAMP:20260424T205623
CREATED:20230426T182032Z
LAST-MODIFIED:20230426T182032Z
UID:10000197-1685631000-1685633400@hcs.nbed.ca
SUMMARY:Problem Solvers Math Club - Grades 6-8
DESCRIPTION:
URL:https://hcs.nbed.ca/calendar/problem-solvers-math-club-grades-6-8-7/
CATEGORIES:Extracurricular
END:VEVENT
BEGIN:VEVENT
DTSTART;TZID=America/Moncton:20230531T150000
DTEND;TZID=America/Moncton:20230531T150000
DTSTAMP:20260424T205623
CREATED:20230426T181946Z
LAST-MODIFIED:20230426T181947Z
UID:10000196-1685545200-1685545200@hcs.nbed.ca
SUMMARY:French Club - Grades 5-8
DESCRIPTION:
URL:https://hcs.nbed.ca/calendar/french-club-grades-5-8-7/
CATEGORIES:Extracurricular
END:VEVENT
BEGIN:VEVENT
DTSTART;TZID=America/Moncton:20230530T193000
DTEND;TZID=America/Moncton:20230530T210000
DTSTAMP:20260424T205623
CREATED:20230427T150330Z
LAST-MODIFIED:20230427T150330Z
UID:10000159-1685475000-1685480400@hcs.nbed.ca
SUMMARY:U17 Basketball (Large Gym)
DESCRIPTION:
URL:https://hcs.nbed.ca/calendar/u17-basketball-large-gym-9/
CATEGORIES:Athletics
END:VEVENT
BEGIN:VEVENT
DTSTART;TZID=America/Moncton:20230526T163000
DTEND;TZID=America/Moncton:20230526T180000
DTSTAMP:20260424T205623
CREATED:20230427T150230Z
LAST-MODIFIED:20230427T150230Z
UID:10000158-1685118600-1685124000@hcs.nbed.ca
SUMMARY:SG Volleyball (Large Gym)
DESCRIPTION:
URL:https://hcs.nbed.ca/calendar/sg-volleyball-large-gym-8/
CATEGORIES:Athletics
END:VEVENT
BEGIN:VEVENT
DTSTART;TZID=America/Moncton:20230526T150000
DTEND;TZID=America/Moncton:20230526T163000
DTSTAMP:20260424T205623
CREATED:20230427T150152Z
LAST-MODIFIED:20230427T150153Z
UID:10000157-1685113200-1685118600@hcs.nbed.ca
SUMMARY:SB Volleyball (Large Gym)
DESCRIPTION:
URL:https://hcs.nbed.ca/calendar/sb-volleyball-large-gym-13/
CATEGORIES:Athletics
END:VEVENT
BEGIN:VEVENT
DTSTART;TZID=America/Moncton:20230525T193000
DTEND;TZID=America/Moncton:20230525T210000
DTSTAMP:20260424T205623
CREATED:20230427T150103Z
LAST-MODIFIED:20230427T150104Z
UID:10000156-1685043000-1685048400@hcs.nbed.ca
SUMMARY:U17 Basketball (Large Gym)
DESCRIPTION:
URL:https://hcs.nbed.ca/calendar/u17-basketball-large-gym-8/
CATEGORIES:Athletics
END:VEVENT
BEGIN:VEVENT
DTSTART;TZID=America/Moncton:20230525T163000
DTEND;TZID=America/Moncton:20230525T180000
DTSTAMP:20260424T205623
CREATED:20230427T150004Z
LAST-MODIFIED:20230427T150005Z
UID:10000155-1685032200-1685037600@hcs.nbed.ca
SUMMARY:SG Volleyball (Large Gym)
DESCRIPTION:
URL:https://hcs.nbed.ca/calendar/sg-volleyball-large-gym-7/
CATEGORIES:Athletics
END:VEVENT
BEGIN:VEVENT
DTSTART;TZID=America/Moncton:20230525T150000
DTEND;TZID=America/Moncton:20230525T163000
DTSTAMP:20260424T205623
CREATED:20230427T145916Z
LAST-MODIFIED:20230427T145916Z
UID:10000154-1685026800-1685032200@hcs.nbed.ca
SUMMARY:SB Volleyball (Large Gym)
DESCRIPTION:
URL:https://hcs.nbed.ca/calendar/sb-volleyball-large-gym-12/
CATEGORIES:Athletics
END:VEVENT
BEGIN:VEVENT
DTSTART;TZID=America/Moncton:20230525T145000
DTEND;TZID=America/Moncton:20230525T153000
DTSTAMP:20260424T205623
CREATED:20230426T181855Z
LAST-MODIFIED:20230426T181856Z
UID:10000195-1685026200-1685028600@hcs.nbed.ca
SUMMARY:Problem Solvers Math Club - Grades 6-8
DESCRIPTION:
URL:https://hcs.nbed.ca/calendar/problem-solvers-math-club-grades-6-8-6/
CATEGORIES:Extracurricular
END:VEVENT
BEGIN:VEVENT
DTSTART;TZID=America/Moncton:20230524T163000
DTEND;TZID=America/Moncton:20230524T180000
DTSTAMP:20260424T205623
CREATED:20230427T145750Z
LAST-MODIFIED:20230427T145750Z
UID:10000153-1684945800-1684951200@hcs.nbed.ca
SUMMARY:SG Volleyball (Large Gym)
DESCRIPTION:
URL:https://hcs.nbed.ca/calendar/sg-volleyball-large-gym-6/
CATEGORIES:Athletics
END:VEVENT
BEGIN:VEVENT
DTSTART;TZID=America/Moncton:20230524T150000
DTEND;TZID=America/Moncton:20230524T163000
DTSTAMP:20260424T205623
CREATED:20230427T145702Z
LAST-MODIFIED:20230427T145702Z
UID:10000152-1684940400-1684945800@hcs.nbed.ca
SUMMARY:SB Volleyball (Large Gym)
DESCRIPTION:
URL:https://hcs.nbed.ca/calendar/sb-volleyball-large-gym-11/
CATEGORIES:Athletics
END:VEVENT
BEGIN:VEVENT
DTSTART;TZID=America/Moncton:20230524T150000
DTEND;TZID=America/Moncton:20230524T150000
DTSTAMP:20260424T205623
CREATED:20230426T181818Z
LAST-MODIFIED:20230426T181819Z
UID:10000194-1684940400-1684940400@hcs.nbed.ca
SUMMARY:French Club - Grades 5-8
DESCRIPTION:
URL:https://hcs.nbed.ca/calendar/french-club-grades-5-8-6/
CATEGORIES:Extracurricular
END:VEVENT
BEGIN:VEVENT
DTSTART;TZID=America/Moncton:20230523T193000
DTEND;TZID=America/Moncton:20230523T210000
DTSTAMP:20260424T205623
CREATED:20230427T145615Z
LAST-MODIFIED:20230427T145616Z
UID:10000242-1684870200-1684875600@hcs.nbed.ca
SUMMARY:U17 Basketball (Large Gym)
DESCRIPTION:
URL:https://hcs.nbed.ca/calendar/u17-basketball-large-gym-7/
CATEGORIES:Athletics
END:VEVENT
BEGIN:VEVENT
DTSTART;TZID=America/Moncton:20230523T163000
DTEND;TZID=America/Moncton:20230523T180000
DTSTAMP:20260424T205623
CREATED:20230427T145537Z
LAST-MODIFIED:20230427T145538Z
UID:10000241-1684859400-1684864800@hcs.nbed.ca
SUMMARY:SG Volleyball (Large Gym)
DESCRIPTION:
URL:https://hcs.nbed.ca/calendar/sg-volleyball-large-gym-5/
CATEGORIES:Athletics
END:VEVENT
BEGIN:VEVENT
DTSTART;TZID=America/Moncton:20230523T150000
DTEND;TZID=America/Moncton:20230523T163000
DTSTAMP:20260424T205623
CREATED:20230427T145455Z
LAST-MODIFIED:20230427T145456Z
UID:10000240-1684854000-1684859400@hcs.nbed.ca
SUMMARY:SB Volleyball (Large Gym)
DESCRIPTION:
URL:https://hcs.nbed.ca/calendar/sb-volleyball-large-gym-10/
CATEGORIES:Athletics
END:VEVENT
BEGIN:VEVENT
DTSTART;TZID=America/Moncton:20230522T000000
DTEND;TZID=America/Moncton:20230522T235959
DTSTAMP:20260424T205623
CREATED:20220502T161734Z
LAST-MODIFIED:20220921T124756Z
UID:10000178-1684713600-1684799999@hcs.nbed.ca
SUMMARY:Victoria Day
DESCRIPTION:
URL:https://hcs.nbed.ca/calendar/victoria-day/
END:VEVENT
BEGIN:VEVENT
DTSTART;TZID=America/Moncton:20230519T163000
DTEND;TZID=America/Moncton:20230519T180000
DTSTAMP:20260424T205623
CREATED:20230427T145208Z
LAST-MODIFIED:20230427T145208Z
UID:10000239-1684513800-1684519200@hcs.nbed.ca
SUMMARY:SG Volleyball (Large Gym)
DESCRIPTION:
URL:https://hcs.nbed.ca/calendar/sg-volleyball-large-gym-4/
CATEGORIES:Athletics
END:VEVENT
BEGIN:VEVENT
DTSTART;TZID=America/Moncton:20230519T150000
DTEND;TZID=America/Moncton:20230519T163000
DTSTAMP:20260424T205623
CREATED:20230427T145122Z
LAST-MODIFIED:20230427T145123Z
UID:10000238-1684508400-1684513800@hcs.nbed.ca
SUMMARY:SB Volleyball (Large Gym)
DESCRIPTION:
URL:https://hcs.nbed.ca/calendar/sb-volleyball-large-gym-9/
CATEGORIES:Athletics
END:VEVENT
BEGIN:VEVENT
DTSTART;TZID=America/Moncton:20230518T193000
DTEND;TZID=America/Moncton:20230518T210000
DTSTAMP:20260424T205623
CREATED:20230427T145001Z
LAST-MODIFIED:20230427T145002Z
UID:10000237-1684438200-1684443600@hcs.nbed.ca
SUMMARY:U17 Basketball (Large Gym)
DESCRIPTION:
URL:https://hcs.nbed.ca/calendar/u17-basketball-large-gym-6/
CATEGORIES:Athletics
END:VEVENT
BEGIN:VEVENT
DTSTART;TZID=America/Moncton:20230518T170000
DTEND;TZID=America/Moncton:20230518T170000
DTSTAMP:20260424T205623
CREATED:20230427T152539Z
LAST-MODIFIED:20230427T152539Z
UID:10000250-1684429200-1684429200@hcs.nbed.ca
SUMMARY:Fine Arts Night
DESCRIPTION:
URL:https://hcs.nbed.ca/calendar/fine-arts-night/
CATEGORIES:Current Students,Extracurricular
END:VEVENT
END:VCALENDAR